BEGIN:VCALENDAR
VERSION:2.0
PRODID:-//Förderverein Barchfelder Schlösser e.V. - ECPv6.15.20//NONSGML v1.0//EN
CALSCALE:GREGORIAN
METHOD:PUBLISH
X-ORIGINAL-URL:https://www.fv-barchfelder-schloesser.de
X-WR-CALDESC:Veranstaltungen für Förderverein Barchfelder Schlösser e.V.
REFRESH-INTERVAL;VALUE=DURATION:PT1H
X-Robots-Tag:noindex
X-PUBLISHED-TTL:PT1H
BEGIN:VTIMEZONE
TZID:Europe/Berlin
BEGIN:DAYLIGHT
TZOFFSETFROM:+0100
TZOFFSETTO:+0200
TZNAME:CEST
DTSTART:20220327T010000
END:DAYLIGHT
BEGIN:STANDARD
TZOFFSETFROM:+0200
TZOFFSETTO:+0100
TZNAME:CET
DTSTART:20221030T010000
END:STANDARD
BEGIN:DAYLIGHT
TZOFFSETFROM:+0100
TZOFFSETTO:+0200
TZNAME:CEST
DTSTART:20230326T010000
END:DAYLIGHT
BEGIN:STANDARD
TZOFFSETFROM:+0200
TZOFFSETTO:+0100
TZNAME:CET
DTSTART:20231029T010000
END:STANDARD
BEGIN:DAYLIGHT
TZOFFSETFROM:+0100
TZOFFSETTO:+0200
TZNAME:CEST
DTSTART:20240331T010000
END:DAYLIGHT
BEGIN:STANDARD
TZOFFSETFROM:+0200
TZOFFSETTO:+0100
TZNAME:CET
DTSTART:20241027T010000
END:STANDARD
END:VTIMEZONE
BEGIN:VEVENT
DTSTART;TZID=Europe/Berlin:20230602T180000
DTEND;TZID=Europe/Berlin:20230602T220000
DTSTAMP:20260426T020210
CREATED:20230421T195313Z
LAST-MODIFIED:20230530T195840Z
UID:487-1685728800-1685743200@www.fv-barchfelder-schloesser.de
SUMMARY:Biergarteneröffnung im Schlosshof\, Wochendende 1\, Tag 1
DESCRIPTION:Ankündigung Biergarten 2023
URL:https://www.fv-barchfelder-schloesser.de/event/biergarteneroeffnung-im-schlosshof-wochendende-1-tag-1/
LOCATION:Barchfelder Schlösser\, Schlossweg 5\, Barchfeld\, 36456\, Deutschland
CATEGORIES:Öffentlich
END:VEVENT
BEGIN:VEVENT
DTSTART;TZID=Europe/Berlin:20230603T180000
DTEND;TZID=Europe/Berlin:20230603T220000
DTSTAMP:20260426T020210
CREATED:20230421T195423Z
LAST-MODIFIED:20230530T195914Z
UID:489-1685815200-1685829600@www.fv-barchfelder-schloesser.de
SUMMARY:Biergarteneröffnung im Schlosshof\, Wochendende 1\, Tag 2
DESCRIPTION:Ankündigung Biergarten 2023
URL:https://www.fv-barchfelder-schloesser.de/event/biergarteneroeffnung-im-schlosshof-wochendende-1-tag-2/
LOCATION:Barchfelder Schlösser\, Schlossweg 5\, Barchfeld\, 36456\, Deutschland
CATEGORIES:Öffentlich
END:VEVENT
BEGIN:VEVENT
DTSTART;TZID=Europe/Berlin:20230617T180000
DTEND;TZID=Europe/Berlin:20230617T235900
DTSTAMP:20260426T020210
CREATED:20230607T180010Z
LAST-MODIFIED:20230614T194302Z
UID:523-1687024800-1687046340@www.fv-barchfelder-schloesser.de
SUMMARY:Biergarten mit "Bahnhofsmusik" live
DESCRIPTION:
URL:https://www.fv-barchfelder-schloesser.de/event/biergarten-mit-bahnhofsmusik-live/
LOCATION:Barchfelder Schlösser\, Schlossweg 5\, Barchfeld\, 36456\, Deutschland
CATEGORIES:Öffentlich
END:VEVENT
END:VCALENDAR