BEGIN:VCALENDAR
VERSION:2.0
PRODID:-//Förderverein Barchfelder Schlösser e.V. - ECPv6.15.20//NONSGML v1.0//EN
CALSCALE:GREGORIAN
METHOD:PUBLISH
X-ORIGINAL-URL:https://www.fv-barchfelder-schloesser.de
X-WR-CALDESC:Veranstaltungen für Förderverein Barchfelder Schlösser e.V.
REFRESH-INTERVAL;VALUE=DURATION:PT1H
X-Robots-Tag:noindex
X-PUBLISHED-TTL:PT1H
BEGIN:VTIMEZONE
TZID:Europe/Berlin
BEGIN:DAYLIGHT
TZOFFSETFROM:+0100
TZOFFSETTO:+0200
TZNAME:CEST
DTSTART:20240331T010000
END:DAYLIGHT
BEGIN:STANDARD
TZOFFSETFROM:+0200
TZOFFSETTO:+0100
TZNAME:CET
DTSTART:20241027T010000
END:STANDARD
BEGIN:DAYLIGHT
TZOFFSETFROM:+0100
TZOFFSETTO:+0200
TZNAME:CEST
DTSTART:20250330T010000
END:DAYLIGHT
BEGIN:STANDARD
TZOFFSETFROM:+0200
TZOFFSETTO:+0100
TZNAME:CET
DTSTART:20251026T010000
END:STANDARD
BEGIN:DAYLIGHT
TZOFFSETFROM:+0100
TZOFFSETTO:+0200
TZNAME:CEST
DTSTART:20260329T010000
END:DAYLIGHT
BEGIN:STANDARD
TZOFFSETFROM:+0200
TZOFFSETTO:+0100
TZNAME:CET
DTSTART:20261025T010000
END:STANDARD
END:VTIMEZONE
BEGIN:VEVENT
DTSTART;VALUE=DATE:20250704
DTEND;VALUE=DATE:20250705
DTSTAMP:20260423T011124
CREATED:20250601T170055Z
LAST-MODIFIED:20250612T201351Z
UID:618-1751587200-1751673599@www.fv-barchfelder-schloesser.de
SUMMARY:Buchvorstellung "Die Kämpfs"
DESCRIPTION:Ankündigung Buchvorstellung &#8222;Die Kämpfs&#8220;
URL:https://www.fv-barchfelder-schloesser.de/event/buchvorstellung-die-kaempfs/
LOCATION:Barchfelder Schlösser\, Schlossweg 5\, Barchfeld\, 36456\, Deutschland
CATEGORIES:Öffentlich
END:VEVENT
END:VCALENDAR