BEGIN:VCALENDAR
VERSION:2.0
PRODID:-//Förderverein Barchfelder Schlösser e.V. - ECPv6.15.20//NONSGML v1.0//EN
CALSCALE:GREGORIAN
METHOD:PUBLISH
X-WR-CALNAME:Förderverein Barchfelder Schlösser e.V.
X-ORIGINAL-URL:https://www.fv-barchfelder-schloesser.de
X-WR-CALDESC:Veranstaltungen für Förderverein Barchfelder Schlösser e.V.
REFRESH-INTERVAL;VALUE=DURATION:PT1H
X-Robots-Tag:noindex
X-PUBLISHED-TTL:PT1H
BEGIN:VTIMEZONE
TZID:Europe/Berlin
BEGIN:DAYLIGHT
TZOFFSETFROM:+0100
TZOFFSETTO:+0200
TZNAME:CEST
DTSTART:20220327T010000
END:DAYLIGHT
BEGIN:STANDARD
TZOFFSETFROM:+0200
TZOFFSETTO:+0100
TZNAME:CET
DTSTART:20221030T010000
END:STANDARD
BEGIN:DAYLIGHT
TZOFFSETFROM:+0100
TZOFFSETTO:+0200
TZNAME:CEST
DTSTART:20230326T010000
END:DAYLIGHT
BEGIN:STANDARD
TZOFFSETFROM:+0200
TZOFFSETTO:+0100
TZNAME:CET
DTSTART:20231029T010000
END:STANDARD
BEGIN:DAYLIGHT
TZOFFSETFROM:+0100
TZOFFSETTO:+0200
TZNAME:CEST
DTSTART:20240331T010000
END:DAYLIGHT
BEGIN:STANDARD
TZOFFSETFROM:+0200
TZOFFSETTO:+0100
TZNAME:CET
DTSTART:20241027T010000
END:STANDARD
END:VTIMEZONE
BEGIN:VEVENT
DTSTART;TZID=Europe/Berlin:20230422T140000
DTEND;TZID=Europe/Berlin:20230422T170000
DTSTAMP:20260426T054553
CREATED:20230421T194627Z
LAST-MODIFIED:20230421T194818Z
UID:481-1682172000-1682182800@www.fv-barchfelder-schloesser.de
SUMMARY:Bücherflohmarkt 2023 (Tag 1)
DESCRIPTION:Bücherflohmarkt und Frühlingsmarkt im Schlosshof \nSonnabend zusätzlich: Taschen\, Naturseife\, Vogelhäuser\, Schmuck\, Schnitzen mit Kindern\, Wikingerzelt und Holzarbeiten
URL:https://www.fv-barchfelder-schloesser.de/event/buecherflohmarkt-2023-tag-1/
LOCATION:Barchfelder Schlösser\, Schlossweg 5\, Barchfeld\, 36456\, Deutschland
CATEGORIES:Öffentlich
END:VEVENT
BEGIN:VEVENT
DTSTART;TZID=Europe/Berlin:20230423T140000
DTEND;TZID=Europe/Berlin:20230423T170000
DTSTAMP:20260426T054553
CREATED:20230421T194749Z
LAST-MODIFIED:20230421T194749Z
UID:483-1682258400-1682269200@www.fv-barchfelder-schloesser.de
SUMMARY:Bücherflohmarkt 2023 (Tag 2)
DESCRIPTION:Bücherflohmarkt und Frühlingsmarkt im Schlosshof
URL:https://www.fv-barchfelder-schloesser.de/event/buecherflohmarkt-2023-tag-2/
LOCATION:Barchfelder Schlösser\, Schlossweg 5\, Barchfeld\, 36456\, Deutschland
CATEGORIES:Öffentlich
END:VEVENT
END:VCALENDAR