BEGIN:VCALENDAR
VERSION:2.0
PRODID:-//Förderverein Barchfelder Schlösser e.V. - ECPv6.15.20//NONSGML v1.0//EN
CALSCALE:GREGORIAN
METHOD:PUBLISH
X-ORIGINAL-URL:https://www.fv-barchfelder-schloesser.de
X-WR-CALDESC:Veranstaltungen für Förderverein Barchfelder Schlösser e.V.
REFRESH-INTERVAL;VALUE=DURATION:PT1H
X-Robots-Tag:noindex
X-PUBLISHED-TTL:PT1H
BEGIN:VTIMEZONE
TZID:Europe/Berlin
BEGIN:DAYLIGHT
TZOFFSETFROM:+0100
TZOFFSETTO:+0200
TZNAME:CEST
DTSTART:20220327T010000
END:DAYLIGHT
BEGIN:STANDARD
TZOFFSETFROM:+0200
TZOFFSETTO:+0100
TZNAME:CET
DTSTART:20221030T010000
END:STANDARD
BEGIN:DAYLIGHT
TZOFFSETFROM:+0100
TZOFFSETTO:+0200
TZNAME:CEST
DTSTART:20230326T010000
END:DAYLIGHT
BEGIN:STANDARD
TZOFFSETFROM:+0200
TZOFFSETTO:+0100
TZNAME:CET
DTSTART:20231029T010000
END:STANDARD
BEGIN:DAYLIGHT
TZOFFSETFROM:+0100
TZOFFSETTO:+0200
TZNAME:CEST
DTSTART:20240331T010000
END:DAYLIGHT
BEGIN:STANDARD
TZOFFSETFROM:+0200
TZOFFSETTO:+0100
TZNAME:CET
DTSTART:20241027T010000
END:STANDARD
END:VTIMEZONE
BEGIN:VEVENT
DTSTART;TZID=Europe/Berlin:20231202T140000
DTEND;TZID=Europe/Berlin:20231202T180000
DTSTAMP:20260425T175637
CREATED:20230421T200639Z
LAST-MODIFIED:20231115T192721Z
UID:512-1701525600-1701540000@www.fv-barchfelder-schloesser.de
SUMMARY:Weihnachtsmarkt 2023 (Tag 1)
DESCRIPTION:
URL:https://www.fv-barchfelder-schloesser.de/event/weihnachtsmarkt-2023-tag-1/
LOCATION:Barchfelder Schlösser\, Schlossweg 5\, Barchfeld\, 36456\, Deutschland
CATEGORIES:Öffentlich
END:VEVENT
BEGIN:VEVENT
DTSTART;TZID=Europe/Berlin:20231203T140000
DTEND;TZID=Europe/Berlin:20231203T180000
DTSTAMP:20260425T175637
CREATED:20230421T200718Z
LAST-MODIFIED:20231115T192752Z
UID:514-1701612000-1701626400@www.fv-barchfelder-schloesser.de
SUMMARY:Weihnachtsmarkt 2023 (Tag 2)
DESCRIPTION:
URL:https://www.fv-barchfelder-schloesser.de/event/weihnachtsmarkt-2023-tag-2/
LOCATION:Barchfelder Schlösser\, Schlossweg 5\, Barchfeld\, 36456\, Deutschland
CATEGORIES:Öffentlich
END:VEVENT
END:VCALENDAR